BEGIN:VCALENDAR
VERSION:2.0
PRODID:-//hacksw/handcal//NONSGML v1.0//EN
BEGIN:VEVENT
SUMMARY:Happy Hours au 115
UID:73d37a6b-8aff-4e9b-bc54-2069559697d9
DTSTART:20260424T173000Z
DTEND:20260424T210000Z
LOCATION:Localisation 115 avenue de Verdun 92320 Chatillon
CATEGORIES:Sportif
STATUS:
DESCRIPTION:<p><span style="font-size:20px;">Comme chaque vacances
 scolaires , il n' y a pas piscine .... alors venez boire un coup
 !</span></p>
URL;VALUE=URI:https://ccesmf.sportsregions.fr/evenements/2026/04/24/happy-hours-au-115-2441622
END:VEVENT
END:VCALENDAR
