BEGIN:VCALENDAR
VERSION:2.0
PRODID:-//hacksw/handcal//NONSGML v1.0//EN
BEGIN:VEVENT
SUMMARY:Fosse Bouteille a Antony
UID:b38f4437-7aef-4050-a3b1-91e74e2ffea2
DTSTART:20260620T080000Z
DTEND:20260620T090000Z
LOCATION:Localisation 104 Rue Adolphe Pajeaud, 92160 antony
CATEGORIES:Sportif
STATUS:
DESCRIPTION:<p><span style="font-size:24px;">Attention 10:00 dans
 l'eau ! arrivez un peu avant.</span></p>
 
 <p><span
 style="font-size:20px;">voici les coordonnees de Cathy <em>(06 28 01
 29 94) </em>qui s'occupe de l'organisation et des
 reservations.</span></p>
 
 <p><span style="font-size:20px;"><a
 aria-describedby="tt-hc-email" data-tooltip-anchor-boundary-type="2"
 data-tooltip-show-delay-ms="1000" data-tooltip-y-position="2"
 href="mailto:catherine.ruiz@hotmail.fr" jsaction="pointerenter:EX0mI;
 pointerleave:vpvbp;focus:h06R8; blur:zjh6rb; mlnRJb:fLiPzd;"
 jscontroller="LxQ0Q" jslog="35051; track:click,impression"
 jsname="YheIzf"
 target="_blank">catherine.ruiz@hotmail.fr</a> <em>(inscription par
 email exclusivement)</em></span><br />
  </p>
 
 <p><span
 style="font-size:20px;">Le tarif est de
 <strong>20€/eleves,</strong> apporter son materiel ( palmes masque
 et tuba)</span></p>
URL;VALUE=URI:https://ccesmf.sportsregions.fr/evenements/2026/06/20/fosse-bouteille-a-antony-2441626
END:VEVENT
END:VCALENDAR
